BEGIN:VCALENDAR
VERSION:2.0
CALSCALE:GREGORIAN
PRODID:-//Diputació de Barcelona//DibaCMS//EN
BEGIN:VEVENT
UID:3471
DTSTAMP:20260424T020117
DTSTART:20250116T080000
DTEND:20250116T090000
SUMMARY:Reunió Timbaler amb l'enginyer tècnic
LOCATION:Carrer Bruc del Mig, 55 
METHOD:PUBLISH
X-WR-CALNAME:bruc@bruc.cat
X-WR-TIMEZONE:Europe/Madrid
DESCRIPTION:
URI:https://www.bruc.cat/ajuntament/govern/agenda-de-lalcalde/reunio-timbaler-amb-lenginyer-tecnic.html
CLASS:PUBLIC
END:VEVENT
END:VCALENDAR
