BEGIN:VCALENDAR
VERSION:2.0
CALSCALE:GREGORIAN
PRODID:-//Diputació de Barcelona//DibaCMS//EN
BEGIN:VEVENT
UID:11337
DTSTAMP:20260423T154524
DTSTART:20260423T000000
DTEND:20260423T000000
SUMMARY:Taller de beques
LOCATION:
METHOD:PUBLISH
X-WR-CALNAME:bruc@bruc.cat
X-WR-TIMEZONE:Europe/Madrid
DESCRIPTION:
URI:https://www.bruc.cat/actualitat/agenda/taller-de-beques.html
CLASS:PUBLIC
END:VEVENT
END:VCALENDAR
