BEGIN:VCALENDAR
VERSION:2.0
CALSCALE:GREGORIAN
PRODID:-//Diputació de Barcelona//DibaCMS//EN
BEGIN:VEVENT
UID:11322
DTSTAMP:20260422T004953
DTSTART:20260426T090000
DTEND:20260426T130000
SUMMARY:Intercanvi de Plaques de Cava
LOCATION:Bruc del Mig, 55 08294 El Bruc
METHOD:PUBLISH
X-WR-CALNAME:bruc@bruc.cat
X-WR-TIMEZONE:Europe/Madrid
DESCRIPTION:Trobada de col·leccionistes de plaques i pirules.

URI:https://www.bruc.cat/actualitat/agenda/11322-intercanvi-de-plaques-de-cava.html
CLASS:PUBLIC
END:VEVENT
END:VCALENDAR
