BEGIN:VCALENDAR
VERSION:2.0
CALSCALE:GREGORIAN
PRODID:-//Diputació de Barcelona//DibaCMS//EN
BEGIN:VEVENT
UID:11321
DTSTAMP:20260422T004643
DTSTART:20260423T090000
DTEND:20260423T180000
SUMMARY:La Gent Gran del Bruc vendran roses i punts de llibre per Sant Jordi 🌹📖  
LOCATION:
METHOD:PUBLISH
X-WR-CALNAME:bruc@bruc.cat
X-WR-TIMEZONE:Europe/Madrid
DESCRIPTION:
URI:https://www.bruc.cat/actualitat/agenda/la-gent-gran-del-bruc-vendran-roses-i-punts-de-llibre-per-sant-jordi--.html
CLASS:PUBLIC
END:VEVENT
END:VCALENDAR
