BEGIN:VCALENDAR
VERSION:2.0
CALSCALE:GREGORIAN
PRODID:-//Diputació de Barcelona//DibaCMS//EN
BEGIN:VEVENT
UID:11302
DTSTAMP:20260421T140017
DTSTART:20260421T110000
DTEND:20260421T120000
SUMMARY:Reunií ciudatania
LOCATION:08294 El Bruc
METHOD:PUBLISH
X-WR-CALNAME:bruc@bruc.cat
X-WR-TIMEZONE:Europe/Madrid
DESCRIPTION:
URI:https://www.bruc.cat/ajuntament/govern/agenda-de-lalcalde/reunii-ciudatania.html
CLASS:PUBLIC
END:VEVENT
END:VCALENDAR
