BEGIN:VCALENDAR
VERSION:2.0
CALSCALE:GREGORIAN
PRODID:-//Diputació de Barcelona//DibaCMS//EN
BEGIN:VEVENT
UID:10961
DTSTAMP:20260426T035108
DTSTART:20260130T170000
DTEND:20260130T190000
SUMMARY:Inauguració exposició Javier Menchén
LOCATION:Can Casas 
METHOD:PUBLISH
X-WR-CALNAME:bruc@bruc.cat
X-WR-TIMEZONE:Europe/Madrid
DESCRIPTION:
URI:https://www.bruc.cat/actualitat/agenda/inauguracio-exposicio-javier-menchen.html
CLASS:PUBLIC
END:VEVENT
END:VCALENDAR
